BEGIN:VCALENDAR
VERSION:2.0
PRODID:-//PAGSE - ECPv6.6.4.2//NONSGML v1.0//EN
CALSCALE:GREGORIAN
METHOD:PUBLISH
X-WR-CALNAME:PAGSE
X-ORIGINAL-URL:https://pagse.org
X-WR-CALDESC:Events for PAGSE
REFRESH-INTERVAL;VALUE=DURATION:PT1H
X-Robots-Tag:noindex
X-PUBLISHED-TTL:PT1H
BEGIN:VTIMEZONE
TZID:America/Toronto
BEGIN:DAYLIGHT
TZOFFSETFROM:-0500
TZOFFSETTO:-0400
TZNAME:EDT
DTSTART:20250309T070000
END:DAYLIGHT
BEGIN:STANDARD
TZOFFSETFROM:-0400
TZOFFSETTO:-0500
TZNAME:EST
DTSTART:20251102T060000
END:STANDARD
BEGIN:DAYLIGHT
TZOFFSETFROM:-0500
TZOFFSETTO:-0400
TZNAME:EDT
DTSTART:20260308T070000
END:DAYLIGHT
BEGIN:STANDARD
TZOFFSETFROM:-0400
TZOFFSETTO:-0500
TZNAME:EST
DTSTART:20261101T060000
END:STANDARD
END:VTIMEZONE
BEGIN:VEVENT
DTSTART;TZID=America/Toronto:20250924T073000
DTEND;TZID=America/Toronto:20250924T090000
DTSTAMP:20260420T033242
CREATED:20250923T031247Z
LAST-MODIFIED:20250923T031247Z
UID:6892-1758699000-1758704400@pagse.org
SUMMARY:Dr. Jackie Dawson - Through the Melting Ice: Ship Traffic in Canada’s Arctic | À travers la fonte des glaces: le trafic maritime dans l'Arctique canadien
DESCRIPTION:Our flagship Bacon and Eggheads breakfast series returns for the 2025–2026 parliamentary season\, thanks to the generous support of the Speakers of the House of Commons and the Senate. We are delighted to launch the season with our first talk on Wednesday\, September 24\, 2025. Please find the event details below. \nThrough the Melting Ice: Ship Traffic in Canada’s Arctic \nJackie Dawson\, University of Ottawa \nRapid decline in sea ice extent and thickness due to climate change is occurring much more quickly than predicted. Recent studies suggest that the Arctic Ocean will be seasonally sea ice-free (<1 million km²) well before 2050\, regardless of any mitigation efforts. To put the magnitude of this change into perspective\, a sea ice-free Arctic has not occurred since the last interglacial period\, and before humans first moved into North America. The combination of rapid climate change with changing global economic\, social and geopolitical conditions\, along with technological and AI advancements in ship and infrastructure designs\, could lead to fundamental changes in international maritime trade routes that may favour Arctic waters. New and highly relevant research will be shared in this presentation\, including an overview of historic shipping traffic in Arctic Canada\, the latest projections of future change\, and an outline of key risks and opportunities. \nDr. Jackie Dawson is the Tier 1 Canada Research Chair in Human and Policy Dimensions of Environmental Change and is a Full Professor in the Department of Geography\, Environment\, and Geomatics at the University of Ottawa. She is also serving as a Researcher in Residence in the Office of the Chief Science Advisor. From 2018-24\, Dr. Dawson was the Scientific Director of ArcticNet. As one of Canada’s leading scientists in climate change\, her research is focused on understanding impacts\, risks\, and adaptation strategies for ocean and coastal regions. She is an elected Fellow of the Royal Society of Canada and has won several prestigious awards\, including the SSHRC Impact Connection Award\, the Governor General’s Innovation Award\, the Martin Bergmann Medal for Polar Science and Leadership\, and the Dorothy Killam Fellowship. \nThis discussion will be in English – Simultaneous translation available. \n—————————————————————————————————– \nÀ travers la fonte des glaces : Exploration du trafic maritime dans l’Arctique canadien avec Jackie Dawson \nJackie Dawson\, Université d’Ottawa \nLe déclin rapide de l’étendue et de l’épaisseur de la glace de mer dû au changement climatique se produit beaucoup plus rapidement que prévu. Des études récentes suggèrent que l’océan Arctique sera saisonnièrement libre de glace de mer (<1 million km²) bien avant 2050\, indépendamment des efforts d’atténuation. Pour mettre en perspective l’ampleur de ce changement\, un Arctique sans glace de mer ne s’est jamais produit depuis la dernière période interglaciaire\, avant le peuplement de l’Amérique du Nord par les humains. La combinaison du changement climatique rapide\, des conditions économiques\, sociales\, et géopolitiques dynamiques\, ainsi que des progrès technologiques et de l’intelligence artificielle dans la conception des navires et des infrastructures\, pourrait entraîner des changements fondamentaux dans les routes commerciales maritimes internationales\, favorisant potentiellement les eaux arctiques. Les recherches récentes pertinentes seront présentées\, y compris un résumé historique du trafic maritime dans l’Arctique canadien\, les dernières projections concernant l’évolution future\, ainsi qu’un aperçu des principaux risques et opportunités. \nLa Dre Jackie Dawson occupe la Chaire de recherche du Canada (niveau 1) sur les dimensions humaines et politiques des changements environnementaux et est une professeure titulaire au département de géographie\, d’environnement\, et de géomatique à l’université d’Ottawa. Elle est également chercheuse en résidence au Bureau du conseiller scientifique en chef. De 2018 à 2024\, elle a agi comme directrice scientifique d’ArcticNet. Scientifique de premier plan au Canada dans le domaine du changement climatique\, ses recherches portent sur les effets\, les risques et les stratégies d’adaptation dans les régions océaniques et côtières. Élue membre de la Société royale du Canada\, elle a gagné de nombreux prix prestigieux\, dont le Prix Impacts Connexion du CRSH\, le Prix du gouverneur général pour l’innovation\, la médaille Martin Bergmann pour les sciences et le leadership dans l’Arctique ainsi que la bourse Dorothy Killam. \nLa discussion sera en anglais\, mais la traduction simultanée sera disponible.
URL:https://pagse.org/event/dr-jackie-dawson-through-the-melting-ice-ship-traffic-in-canadas-arctic-a-travers-la-fonte-des-glaces-le-trafic-maritime-dans-larctique-canadien/
LOCATION:Sir John A. Macdonald (SJAM) Building – Room 100\, 144 Wellington Street\, Ottawa\, Ontario\, Canada
ATTACH;FMTTYPE=image/jpeg:https://pagse.org/wp-content/uploads/2025/09/jackie_dawson.jpg
END:VEVENT
BEGIN:VEVENT
DTSTART;TZID=America/Toronto:20251119T073000
DTEND;TZID=America/Toronto:20251119T090000
DTSTAMP:20260420T033242
CREATED:20251031T051612Z
LAST-MODIFIED:20251031T051612Z
UID:7093-1763537400-1763542800@pagse.org
SUMMARY:Dr. Jill Harvey - Resilient Landscapes in a Time of Fire | Des paysages résilients face aux incendies
DESCRIPTION:Our second Bacon and Eggheads breakfast of the 2025–2026 parliamentary season is happening on Wednesday\, November 19\, 2025\, thanks to the generous support of the Speakers of the House of Commons and the Senate. Please find the event details below. \nResilient Landscapes in a Time of Fire \nJillian Harvey\, Thompson Rivers University \nOver the past millennium\, wildfire has been a defining force in shaping many of Canada’s ecosystems\, with fire activity fluctuating alongside climatic and cultural change. In the past century\, and especially over the last decade\, western Canada has faced increasingly severe fire seasons driven by rising temperatures\, drying trends\, and the legacy of fire suppression. These extreme events have produced profound ecological impacts\, from shifts in vegetation composition to altered wildlife habitat. Dr. Harvey will share new insights from ongoing research projects on historical legacies of lightning- and human-ignited fires\, how burn severity influences forest recovery and habitat dynamics\, and how forestry and management practices can converge to build landscapes resilient to future fire. \nDr. Jill Harvey is the Tier II Canada Research Chair in Fire Ecology and an Assistant Professor in Thompson Rivers University’s Department of Natural Resource Science in Kamloops\, British Columbia. She received her BSc\, MSc\, and PhD in Geography at the University of Victoria\, and was an Alexander von Humboldt postdoctoral scholar at the University of Greifswald\, Germany. Prior to joining Thompson Rivers University\, Dr. Harvey was a Research Scientist with Canadian Forest Service\, Natural Resources Canada\, in Edmonton\, Alberta. Dr. Harvey’s primary research interests include fire impacts on forest and natural ecosystems and forest management in context of wildfire resilience. Dr. Harvey is a founding member of the Institute of Wildfire Science\, Adaptation and Resilience and is the NSERC Leader at Thompson Rivers University. \nThis discussion will be in English – Simultaneous translation available. \n—————————————————————————————————– \n\n\nDes paysages résilients face aux incendies \nJillian Harvey\, Université Thompson Rivers \nAu cours du dernier millénaire\, les incendies de forêt ont été une force déterminante dans la formation de nombreux écosystèmes au Canada\, leur activité fluctuant parallèlement aux changements climatiques et culturels. Au siècle dernier\, et surtout au cours de la dernière décennie\, l’Ouest canadien a été confronté à des saisons d’incendie de plus en plus sévère en raison de la hausse des températures\, des tendances à l’assèchement et de l’héritage de la suppression des incendies. Ces événements extrêmes ont eu des effets écologiques profonds\, notamment des changements dans la composition de végétation et dans les habitats fauniques. La Dre Harvey partagera de nouvelles perspectives issues de projets de recherche en cours sur les héritages historiques des incendies allumés par les humains et par la foudre\, sur la manière dont la gravité de brûlures influence la restauration des forêts et la dynamique des habitats\, ainsi que la façon dont les pratiques de foresterie et de gestion peuvent converger pour favoriser la création des paysages plus résilients aux incendies futurs. \nLa Dre Jill Harvey est titulaire de la Chaire de recherche du Canada (niveau 2) en écologie du feu et professeure adjointe au département de sciences des ressources naturelles de l’Université Thompson Rivers\, à Kamloops en Colombie-Britannique. Elle a obtenu son baccalauréat\, sa maîtrise et son doctorat en géographie à l’Université de Victoria\, puis a été chercheuse postdoctorale Alexander von Humboldt à l’Université de Greifswald en Allemagne. Avant de se joindre à l’Université Thompson Rivers\, la Dre Harvey a été chercheuse scientifique au Service canadien des forêts et à Ressources naturelles Canada à Edmonton en Alberta. Ses principaux intérêts de recherche incluent les effets des incendies sur les écosystèmes forestiers et naturels\, ainsi que la gestion des forêts dans une optique de résilience face aux feux. La Dre Harvey est membre fondatrice de l’Institut des sciences\, de l’adaptation et de la résilience aux incendies et représente l’Université Thompson Rivers à titre de responsable du CRSNG. \n\n\nLa discussion sera en anglais\, mais la traduction simultanée sera disponible.
URL:https://pagse.org/event/harvey-wildfires/
LOCATION:Sir John A. Macdonald (SJAM) Building – Room 100\, 144 Wellington Street\, Ottawa\, Ontario\, Canada
ATTACH;FMTTYPE=image/jpeg:https://pagse.org/wp-content/uploads/2025/10/JillHarvey.jpg
END:VEVENT
BEGIN:VEVENT
DTSTART;TZID=America/Toronto:20260312T073000
DTEND;TZID=America/Toronto:20260312T090000
DTSTAMP:20260420T033242
CREATED:20260220T164440Z
LAST-MODIFIED:20260220T164540Z
UID:7147-1773300600-1773306000@pagse.org
SUMMARY:Dr. David Wishart - The Chemical Bridge to Health: How Canada is Leading the Way | Le pont chimique vers la santé : comment le Canada ouvre la voie
DESCRIPTION:Join us on Thursday\, March 12\, 2026 to hear from Dr. David Wishart\, the 2025 winner of the NSERC Herzberg Gold Medal\, Canada’s pre-eminent research award! We are grateful for the generous support of the Speakers of the House of Commons and the Senate in making the Bacon and Eggheads breakfast series possible. \nThe Chemical Bridge to Health: How Canada is Leading the Way \nUsing Metabolomics to Explore the Universe of Chemicals – A Made-In-Canada Story \nDavid Wishart\, University of Alberta \nWhy do two people following identical diets develop entirely different body types? When we ask\, “Environment or biology?”\, we are searching for the bridge connecting our DNA to the world we inhabit. We will discover how that bridge is built with chemistry — more specifically\, a branch of chemistry called metabolomics. \nMetabolomics is the study of thousands of tiny molecules\, called metabolites\, that circulate in our bodies. These metabolites include sugars\, fats\, and vitamins. They shift constantly based on what we eat\, the air we breathe\, and where we live. Each person has a unique “chemical fingerprint” that changes over time. By measuring these chemical fingerprints\, we witness how environment and biology interact in real time. \nWhat makes metabolomics revolutionary is its predictive power. These chemical signatures can be used to detect disease warning signs years before symptoms appear\, enabling us to tailor personalized interventions (specific diets and lifestyle changes) to prevent illness before it takes hold. This is precision health in action. \nCanada has pioneered the fields of metabolomics and precision health. We led the Human Metabolome Project\, established the essential infrastructure\, and continue to identify chemical fingerprints for precision health. The impact is profound: today\, we screen newborns for rare disorders with a single drop of blood and identify chronic disease risks years before clinical symptoms emerge. Thanks to metabolomics\, we are witnessing a fundamental shift in healthcare—from reactive medicine treating symptoms after they appear\, toward proactive\, personalized healthcare focusing on preventing disease before symptoms appear. This is the future we will explore in this presentation. \nDavid Wishart is a Distinguished University Professor and Tier I Canada Research Chair at the University of Alberta. Widely considered the “father of metabolomics”\, Wishart conceived and led the groundbreaking Human Metabolome Project\, identifying over 240\,000 human metabolites and transforming our understanding of human chemistry. As founder of the Metabolomics Innovation Centre (TMIC) and creator of essential databases and software tools including the Human Metabolome Database\, DrugBank and MetaboAnalyst\, Wishart has made metabolomics accessible to scientists worldwide. A Fellow of the Royal Society of Canada and recipient of the prestigious NSERC Herzberg Gold Medal and Brockhouse Award\, Dr. Wishart now focusing on using metabolomics to drive medicine towards proactive healthcare\, disease prevention and precision nutrition. \nThis discussion will be in English. Simultaneous interpretation will be available. \n\nDate: Thursday\, March 12\, 2026\n\n\nTime: 7:30am – 9:00am\n\n\nLocation: in-person @ Sir John A. Macdonald Building (SJAM) – Room 100\, Ottawa\, Ontario\n\n\nCost: FREE of charge for Members of the House of Commons\, Senators\, Parliamentary Staff\, and Media. $25 for all other guests\n\nFor any inquiries\, please contact Cindy Chen at communications@pagse.org or at 613-294-6726. \n—————————————————————————————————– \nJoignez-vous à nous le jeudi 12 mars 2026 pour entendre le Dr David Wishart\, lauréat de la Médaille d’or Herzberg du CRSNG — le plus prestigieux prix de recherche au Canada. Nous reconnaissons le soutien généreux des Présidents de la Chambre des communes et du Sénat qui rend possible la série des Petits-déjeuners avec des Têtes à Papineau. \nLe pont chimique vers la santé : comment le Canada ouvre la voie \nUtiliser la métabolomique pour explorer l’univers chimique : une réussite canadienne \nDavid Wishart\, l’Université d’Alberta \nPourquoi deux personnes suivant des régimes alimentaires identiques développent-elles des morphologies complètement différentes ? Lorsque nous nous demandons\, « L’environnement ou la biologie? »\, nous cherchons le pont qui relie notre ADN au monde que nous habitons. Nous découvrirons comment ce pont se construit grâce à la chimie – plus précisément à une branche de la chimie appelée la métabolomique. \nLa métabolomique est l’étude de milliers de minuscules molécules\, les métabolites\, qui circulent dans nos corps. Les métabolites comprennent des sucres\, des graisses et des vitamines. Ils évoluent constamment en fonction de ce que nous mangeons\, de l’air que nous respirons et de nos lieux de vie. Chacun de nous possède une « empreinte chimique » unique qui se transforme au fil du temps. En mesurant ces empreintes chimiques\, nous observons en temps réel les interactions entre l’environnement et la biologie. \nCe qui rend la métabolomique révolutionnaire\, c’est son pouvoir prédictif. Ces signatures chimiques peuvent servir à détecter les signes avant-coureurs de maladies plusieurs années avant l’apparition des symptômes. Cela nous permet ainsi d’élaborer des interventions personnalisées – comme des régimes alimentaires ciblés et des changements de mode de vie – afin de prévenir la maladie avant qu’elle ne s’installe. C’est là toute l’essence de la santé de précision en action. \nLe Canada a été un pionnier dans la métabolomique et la santé de précision. Nous avons dirigé le Projet sur le métabolome humain\, mis en place l’infrastructure essentielle et continuons d’identifier des empreintes chimiques au service de la santé de précision. L’impact est considérable : aujourd’hui\, nous dépistons des maladies rares chez les nouveau-nés à partir d’une seule goutte de sang et identifions les risques de maladies chroniques bien avant l’émergence des symptômes cliniques. Grâce à la métabolomique\, nous assistons à un changement fondamental dans les soins de santé : nous passons d’une médecine réactive\, qui traite les symptômes après leur apparition\, à des soins de santé proactifs et personnalisés axés sur la prévention des maladies. C’est cet avenir que nous explorerons dans cette présentation. \nDavid Wishart est professeur d’université distingué et Chair de recherche de niveau 1 à l’Université d’Alberta. Largement considéré comme le « père de la métabolomique »\, Wishart a conçu et dirigé le révolutionnaire Project sur le métabolome humain\, qui a identifié plus de 240 000 métabolites humaines et transformé notre compréhension de la chimie humaine. En tant que fondateur du Centre d’innovation en métabolomique et créateur des bases de données et de logiciels essentiels tels que la Base de données sur le métabolome humain\, DrugBank et MetaboAnalyst\, Wishart a rendu la métabolomique accessible aux scientifiques du monde entier. Membre de la Société royale du Canada et lauréat de la prestigieuse Médaille d’or Herzberg du CRSNG ainsi que du Prix Brockhouse\, il se consacre désormais à l’utilisation de la métabolomique pour favoriser la santé proactive\, la prévention des maladies et la nutrition de précision. \nCette discussion se déroulera en anglais. Un service d’interprétation simultanée sera disponible. \n\nDate : jeudi 12 mars 2026\n\n\nHeure : 7h30 à 9h00\n\n\nLieu : en personne dans l’Édifice Sir John A. Macdonald (SJAM) – salle 100\, Ottawa\, Ontario\n\n\nCoût : GRATUIT pour les députés\, les sénateurs\, le personnel parliamentaire et les membres de la presse. 25$ pour tous les autres invités\n\nSi vous avez des questions\, veuillez contacter Cindy Chen à communications@pagse.org ou au 613-294-6726.
URL:https://pagse.org/event/dr-david-wishart-the-chemical-bridge-to-health-how-canada-is-leading-the-way-le-pont-chimique-vers-la-sante-comment-le-canada-ouvre-la-voie/
LOCATION:Sir John A. Macdonald (SJAM) Building – Room 100\, 144 Wellington Street\, Ottawa\, Ontario\, Canada
ATTACH;FMTTYPE=image/png:https://pagse.org/wp-content/uploads/2026/02/David_S._Wishart.png
END:VEVENT
END:VCALENDAR